Workbook

Sheet NOTA IMPORTANTE
A2: Utilice las hojas que siguen a esta para preparar el desglose que se solicita en el ANEXO VII MODELO DE OFERTA ECONÓMICA del PCP y, cuando las haya cumplimentado, cópielas sustituyendo las tablas correspondientes que hay en el modelo, para obtener e incluir en el sobre de su oferta un solo documento pdf firmado electrónicamente, tal y como se indica en dicho Anexo.

Sheet Resumen Of Eco.
A1: TVAA-RAA-2025-00005 - Servicio de plataforma OTT de contenidos audiovisuales para Televisión Autonómica de Aragón S.A.U. y Radio Autonómica de Aragón S.A.U. y sistema de gestión de contenidos web para la Corporación Aragonesa de Radio y Televisión y sus Sociedades
A2: LOTE 1: PLATAFORMA OTT DE CONTENIDOS AUDIOVISUALES
A4: LOTE 1: RESUMEN OFERTA ECONÓMICA
A7: I. Oferta económica del contrato
A9: LOTE 1: 2 años de contrato | B9: Precio Máximo Licitación (sin IVA) | C9: Oferta servicio (sin IVA)
A10: SERVICIOS DE ALTA | B10: =I.SERVICIOS!C16 -> 564950.02 | C10: =I.SERVICIOS!F16 -> 0
A11: SERVICIOS PLATAFORMA OTT Y SOPORTE | B11: =I.SERVICIOS!C31 -> 1238330 | C11: =I.SERVICIOS!F31 -> 0
A12: TRÁFICO CDN, TRANSCODIFICACIÓN y ALMACENAMIENTO. Consumo mínimo | B12: =I.SERVICIOS!C48 -> 258170.88 | C12: =I.SERVICIOS!F48 -> 0
A13: TRÁFICO CDN, TRANSCODIFICACIÓN y ALMACENAMIENTO. Consumo variable | B13: =I.SERVICIOS!C58 -> 62351.52 | C13: =I.SERVICIOS!F58 -> 0
A14: Total Lote 1: 2 años de contrato (sin IVA) | B14: =SUM(B10:B13) -> 2123802.4 | C14: =SUM(C10:C13) -> 0
A17: II. Exceso de la demanda
A19: LOTE 1: Exceso de la demanda | B19: Precio Máximo Licitación (sin IVA) | C19: Oferta servicio ponderado (sin IVA)
A20: PLATAFORMA OTT | B20: ='II.EXCESO DE LA DEMANDA'!C22 -> 60114 | C20: ='II.EXCESO DE LA DEMANDA'!F22 -> 0

Sheet I.SERVICIOS
A1: TVAA-RAA-2025-00005 - Servicio de plataforma OTT de contenidos audiovisuales para Televisión Autonómica de Aragón S.A.U. y Radio Autonómica de Aragón S.A.U. y sistema de gestión de contenidos web para la Corporación Aragonesa de Radio y Televisión y sus Sociedades
A2: LOTE 1: PLATAFORMA OTT DE CONTENIDOS AUDIOVISUALES
A4: LOTE 1: I. SERVICIOS DEL CONTRATO
A6: 1. SERVICIO PLATAFORMA OTT
A8: SERVICIOS DE ALTA | B8: Tipo Unidad (Tanto alzado / precio unitario) | C8: Precio máximo a ofertar | D8: Precio ofertado (unidad) | F8: Precio ofertado total
A9: Fase puesta en servicio | B9: Tanto alzado | C9: 348401 | F9: =D9 -> 0 | G9: =IF(D9>C9,"El importe ofertado debe ser igual o inferior al precio máximo a ofertar","")
A10: Fase 1 | B10: Tanto alzado | C10: 140034 | F10: =D10 -> 0 | G10: =IF(D10>C10,"El importe ofertado debe ser igual o inferior al precio máximo a ofertar","")
A11: Fase 2 | B11: Tanto alzado | C11: 49085.02 | F11: =D11 -> 0 | G11: =IF(D11>C11,"El importe ofertado debe ser igual o inferior al precio máximo a ofertar","")
A12: Fase 3 | B12: Tanto alzado | C12: 25000 | F12: =D12 -> 0 | G12: =IF(D12>C12,"El importe ofertado debe ser igual o inferior al precio máximo a ofertar","")
A13: Fase opcional: Herramienta de HbbTV para el Canal TDT | B13: Tanto alzado | C13: 2430 | F13: =D13 -> 0 | G13: =IF(D13>C13,"El importe ofertado debe ser igual o inferior al precio máximo a ofertar","")
C15: Precio máximo de Licitación | F15: Precio ofertado total
A16: Total servicios de alta (IVA Excluido) | C16: =SUM(C9:C13) -> 564950.02 | F16: =SUM(F9:F13) -> 0 | G16: =IF(F16>C16,"El importe ofertado total debe ser igual o inferior al precio máximo de Licitación","")
A19: SERVICIOS PLATAFORMA OTT Y SOPORTE 2 años contrato | B19: Tipo Unidad (Tanto alzado / precio unitario) | C19: Precio máximo a ofertar mensual | D19: Precio ofertado (unidad) | E19: Ponderación | F19: Precio ofertado total
A20: Servicio Plataforma OTT. Fase 1 | B20: Precio unitario mensual | C20: 16797.67 | E20: 2 | F20: =E20*D20 -> 0 | G20: =IF(D20>C20,"El importe ofertado debe ser igual o inferior al precio máximo a ofertar","")
A21: Servicio Plataforma OTT. Fase 2 | B21: Precio unitario mensual | C21: 26879.67 | E21: 4 | F21: =E21*D21 -> 0 | G21: =IF(D21>C21,"El importe ofertado debe ser igual o inferior al precio máximo a ofertar","")
A22: Servicio Plataforma OTT. Fase 3 | B22: Precio unitario mensual | C22: 34082.22 | E22: 4 | F22: =E22*D22 -> 0 | G22: =IF(D22>C22,"El importe ofertado debe ser igual o inferior al precio máximo a ofertar","")
A23: Servicio Plataforma OTT. Fase de explotación | B23: Precio unitario mensual | C23: 39472.22 | E23: 14 | F23: =E23*D23 -> 0 | G23: =IF(D23>C23,"El importe ofertado debe ser igual o inferior al precio máximo a ofertar","")
A24: Servicio Plataforma OTT. Fase opcional: Herramienta de HbbTV para el Canal TDT | B24: Precio unitario mensual | C24: 979 | E24: 24 | F24: =E24*D24 -> 0 | G24: =IF(D24>C24,"El importe ofertado debe ser igual o inferior al precio máximo a ofertar","")
A25: Soporte Técnico | B25: Precio unitario mensual | C25: 8825 | E25: 24 | F25: =E25*D25 -> 0 | G25: =IF(D25>C25,"El importe ofertado debe ser igual o inferior al precio máximo a ofertar","")
A26: Soporte Editorial | B26: Precio unitario mensual | C26: 4500 | E26: 24 | F26: =E26*D26 -> 0 | G26: =IF(D26>C26,"El importe ofertado debe ser igual o inferior al precio máximo a ofertar","")
A27: Soporte a Personas Usuarias | B27: Precio unitario mensual | C27: 1250 | E27: 24 | F27: =E27*D27 -> 0 | G27: =IF(D27>C27,"El importe ofertado debe ser igual o inferior al precio máximo a ofertar","")
A28: Soporte técnico. Mantenimiento evolutivo (Bolsa 500 horas anuales) | B28: Precio unitario por hora | C28: 60 | E28: =ROUND(500*14/12,0) -> 583 | F28: =E28*D28 -> 0 | G28: =IF(D28>C28,"El importe ofertado debe ser igual o inferior al precio máximo a ofertar","")
C30: Precio máximo de Licitación | F30: Precio ofertado total
A31: Total oferta contrato (2 años) (IVA Excluido) | C31: =C20*E20+C21*E21+C22*E22+C23*E23+C25*E25+C26*E26+C27*E27+C28*E28+C24*E24 -> 1238330 | F31: =SUM(F20:F28) -> 0 | G31: =IF(F31>C31,"El importe ofertado total debe ser igual o inferior al precio máximo de Licitación","")
A35: 2. TRÁFICO CDN, TRANSCODIFICACIÓN y ALMACENAMIENTO
A37: TRÁFICO CDN, TRANSCODIFICACIÓN y ALMACENAMIENTO. Consumo mínimo 2 años contrato | B37: Tipo Unidad (Tanto alzado / precio unitario) | C37: Precio máximo a ofertar mensual | D37: Precio ofertado (unidad) | E37: Ponderación | F37: Precio ofertado total
A38: Tráfico CDN entregado al usuario. Consumo mínimo. Primer año contrato: 384.000 Gbyte/mes | B38: Precio unitario mensual | C38: 6001.92 | E38: 12 | F38: =E38*D38 -> 0 | G38: =IF(D38>C38,"El importe ofertado debe ser igual o inferior al precio máximo a ofertar","")
A39: Tráfico CDN entregado al usuario. Consumo mínimo. Segundo año contrato: 464.000 Gbyte/mes | B39: Precio unitario mensual | C39: 7252.32 | E39: 12 | F39: =E39*D39 -> 0 | G39: =IF(D39>C39,"El importe ofertado debe ser igual o inferior al precio máximo a ofertar","")
A40: Ingesta, Transcodificación y DVR Directos ocasionales. Consumo mínimo. Primer año contrato: 280 horas/mes | B40: Precio unitario mensual | C40: 1120 | E40: 12 | F40: =E40*D40 -> 0 | G40: =IF(D40>C40,"El importe ofertado debe ser igual o inferior al precio máximo a ofertar","")
A41: Ingesta, Transcodificación y DVR Directos ocasionales. Consumo mínimo. Segundo año contrato: 312 horas/mes | B41: Precio unitario mensual | C41: 1248 | E41: 12 | F41: =E41*D41 -> 0 | G41: =IF(D41>C41,"El importe ofertado debe ser igual o inferior al precio máximo a ofertar","")
A42: Transcodificación VoD. Consumo mínimo. Primer año contrato: 560 horas/mes | B42: Precio unitario mensual | C42: 1120 | E42: 12 | F42: =E42*D42 -> 0 | G42: =IF(D42>C42,"El importe ofertado debe ser igual o inferior al precio máximo a ofertar","")
A43: Transcodificación VoD. Consumo mínimo. Segundo año contrato: 560 horas/mes | B43: Precio unitario mensual | C43: 1120 | E43: 12 | F43: =E43*D43 -> 0 | G43: =IF(D43>C43,"El importe ofertado debe ser igual o inferior al precio máximo a ofertar","")
A44: Almacenamiento. Consumo mínimo. Primer año contrato: 50.000 Gbyte/mes | B44: Precio unitario mensual | C44: 1660 | E44: 12 | F44: =E44*D44 -> 0 | G44: =IF(D44>C44,"El importe ofertado debe ser igual o inferior al precio máximo a ofertar","")
A45: Almacenamiento. Consumo mínimo. Segundo año contrato: 60.000 Gbyte/mes | B45: Precio unitario mensual | C45: 1992 | E45: 12 | F45: =E45*D45 -> 0 | G45: =IF(D45>C45,"El importe ofertado debe ser igual o inferior al precio máximo a ofertar","")
C47: Precio máximo de Licitación | F47: Precio ofertado total
A48: Total oferta contrato. Consumo mínimo (2 años) (IVA Excluido) | C48: =C38*E38+C39*E39+C40*E40+C41*E41+C42*E42+C43*E43+C44*E44+C45*E45 -> 258170.88 | F48: =SUM(F38:F45) -> 0 | G48: =IF(F48>C48,"El importe ofertado total debe ser igual o inferior al precio máximo de Licitación","")
A51: TRÁFICO CDN, TRANSCODIFICACIÓN y ALMACENAMIENTO. Consumo variable 2 años contrato | B51: Tipo Unidad (Tanto alzado / precio unitario) | C51: Precio máximo a ofertar mensual | D51: Precio ofertado (unidad) | E51: Ponderación | F51: Precio ofertado total
A52: Tráfico CDN entregado al usuario. Consumo variable | B52: Precio unitario por GByte | C52: n.a. | E52: 2544000 | F52: =E52*D52 -> 0
A53: Ingesta, Transcodificación y DVR Directos ocasionales. Consumo variable | B53: Precio unitario por horas | C53: n.a. | E53: 1776 | F53: =E53*D53 -> 0
A54: Transcodificación VoD. Consumo variable | B54: Precio unitario por horas | C54: n.a. | E54: 3360 | F54: =E54*D54 -> 0
...

Sheet II.EXCESO DE LA DEMANDA
A1: TVAA-RAA-2025-00005 - Servicio de plataforma OTT de contenidos audiovisuales para Televisión Autonómica de Aragón S.A.U. y Radio Autonómica de Aragón S.A.U. y sistema de gestión de contenidos web para la Corporación Aragonesa de Radio y Televisión y sus Sociedades
A2: LOTE 1: PLATAFORMA OTT DE CONTENIDOS AUDIOVISUALES
A4: LOTE 1: II. EXCESO DE LA DEMANDA
A6: En caso de exceso de la demanda de los servicios inicialmente previstos en el alcance del contrato y por tanto de ser necesaria la puesta en servicios de los mismos, los precios a aplicar serán los siguientes.
A7: Estos importes incluirán todo lo necesario para su puesta en servicio y posterior mantenimiento y explotación: suministro, instalación, configuración, licencias y mantenimiento del servicio.
A9: PLATAFORMA OTT Exceso de la Demanda | B9: Tipo Unidad (Tanto alzado / precio unitario) | C9: Precio máximo a ofertar mensual | D9: Precio ofertado (unidad) | E9: Ponderación | F9: Precio ofertado total (unidad)
A10: Canal TV lineal 24x7. Alta | B10: Precio unitario por canal | C10: 0 | D10: 0 | E10: 1 | F10: =E10*D10 -> 0 | G10: =IF(D10>C10,"El importe ofertado debe ser igual o inferior al precio máximo a ofertar","")
A11: Canal TV lineal 24x7. Cuota mensual Servicio ingesta, transcodificación y DVR Live 24x7. | B11: Precio unitario mensual por canal | C11: 874 | E11: 12 | F11: =E11*D11 -> 0 | G11: =IF(D11>C11,"El importe ofertado debe ser igual o inferior al precio máximo a ofertar","")
A12: Canal Radio lineal 24x7. Alta | B12: Precio unitario por canal | C12: 0 | D12: 0 | E12: 1 | F12: =E12*D12 -> 0 | G12: =IF(D12>C12,"El importe ofertado debe ser igual o inferior al precio máximo a ofertar","")
A13: Canal Radio lineal 24x7. Cuota mensual Servicio ingesta, transcodificación y DVR Live 24x7. | B13: Precio unitario mensual por canal | C13: 266 | E13: 12 | F13: =E13*D13 -> 0 | G13: =IF(D13>C13,"El importe ofertado debe ser igual o inferior al precio máximo a ofertar","")
A14: Directo ocasional. Alta | B14: Precio unitario por canal | C14: 0 | D14: 0 | E14: 1 | F14: =E14*D14 -> 0 | G14: =IF(D14>C14,"El importe ofertado debe ser igual o inferior al precio máximo a ofertar","")
A15: Directo ocasional video. Cuota mensual No incluye servicio ingesta, transcodificación y grabación para el DVR. | B15: Precio unitario mensual por canal | C15: 262 | E15: 12 | F15: =E15*D15 -> 0 | G15: =IF(D15>C15,"El importe ofertado debe ser igual o inferior al precio máximo a ofertar","")
A16: Directo ocasional audio. Cuota mensual No incluye servicio ingesta, transcodificación y grabación para el DVR. | B16: Precio unitario mensual por canal | C16: 80 | E16: 12 | F16: =E16*D16 -> 0 | G16: =IF(D16>C16,"El importe ofertado debe ser igual o inferior al precio máximo a ofertar","")
A17: Canal temático o FAST. Alta | B17: Precio unitario por canal | C17: 3933 | E17: 2 | F17: =E17*D17 -> 0 | G17: =IF(D17>C17,"El importe ofertado debe ser igual o inferior al precio máximo a ofertar","")
A18: Canal temático o FAST. Cuota mensual | B18: Precio unitario mensual por canal | C18: 1311 | E18: 24 | F18: =E18*D18 -> 0 | G18: =IF(D18>C18,"El importe ofertado debe ser igual o inferior al precio máximo a ofertar","")
A19: Soporte técnico. Mantenimiento evolutivo. Horas adicionales a la bolsa de horas incluida en contrato. | B19: Precio unitario por hora | C19: Mismo precio unitario que el ofertado para 2 años contrato | D19: =I.SERVICIOS!D28 -> 0 | E19: 50 | F19: =E19*D19 -> 0 | G19: =IF(D19>C19,"El importe ofertado debe ser igual o inferior al precio máximo a ofertar","")
C21: Precio máximo de Licitación ponderado | F21: Precio ofertado ponderado (sin IVA)
A22: Total Oferta Ponderada Exceso de la Demanda. PLATAFORMA OTT (IVA Excluido) | C22: =C10*E10+C11*E11+C12*E12+C13*E13+C14*E14+C15*E15+C16*E16+C17*E17+C18*E18+I.SERVICIOS!C28*E19 -> 60114 | F22: =SUM(F10:F19) -> 0 | G22: =IF(F22>C22,"El importe ofertado ponderado debe ser igual o inferior al precio máximo de Licitación ponderado","")

Sheet III.ASPECTOS VALORABLES
A1: TVAA-RAA-2025-00005 - Servicio de plataforma OTT de contenidos audiovisuales para Televisión Autonómica de Aragón S.A.U. y Radio Autonómica de Aragón S.A.U. y sistema de gestión de contenidos web para la Corporación Aragonesa de Radio y Televisión y sus Sociedades | I1: 0
A2: LOTE 1: PLATAFORMA OTT DE CONTENIDOS AUDIOVISUALES | I2: 0.01
I3: 0.02
A4: LOTE 1: III. ASPECTOS VALORABLES | I4: 0.03
I5: 0.04
A6: III.1 - MEJORA EN LOS CONSUMOS MÍNIMOS Y EVENTOS ESPECIALES | I6: 0.05
I7: 0.06
A8: % de aumento ofertado sobre la cantidad requerida de consumos mínimos en todos los años del contrato y la prórroga | B8: % AUMENTO MÁXIMO A OFERTAR | C8: % AUMENTO OFERTADO (0% -20% sin decimales) | I8: 0.07
A9: Tráfico CDN entregado al usuario. Consumo mínimo. | B9: 0.2 | C9: 0 | H9: 0 | I9: 0.08
A10: Ingesta, Transcodificación y DVR Directos ocasionales. Consumo mínimo. | B10: 0.2 | C10: 0 | H10: 0.05 | I10: 0.09
A11: Transcodificación VoD. Consumo mínimo. Consumo mínimo. | B11: 0.2 | C11: 0 | H11: 0.1 | I11: 0.1
A12: Almacenamiento. Consumo mínimo. | B12: 0.2 | C12: 0 | H12: 0.15 | I12: 0.11
A13: Aumento ofertado sobre el número anual de eventos especiales en todos los años del contrato y la prórroga | B13: NÚMERO MÁXIMO ADICIONAL A OFERTAR | C13: NÚMERO AUMENTO OFERTADO (0, 1, 2, 3, 4) | H13: 0.2 | I13: 0.12
A14: Aumento del número anual de eventos especiales ofertados | B14: 4 | C14: 0 | I14: 0.13
I15: 0.14
I16: 0.15
A17: III.2 - AUMENTO CAPACIDAD DIRECTOS OCASIONALES Y CANALES TEMÁTICOS O FAST | I17: 0.16
I18: 0.17
A19: AUMENTO CAPACIDAD OFERTADO | B19: NÚMERO CANALES ADICIONALES MÁXIMOS A OFERTAR | C19: NÚMERO CANALES OFERTADOS ADICIONALES A LOS REQUERIDOS EN PLIEGO | H19: 0 | I19: 0.18
A20: Directos ocasionales de video | B20: 3 | C20: 0 | H20: 1 | I20: 0.19
A21: Canales de temáticos o FAST | B21: 2 | C21: 0 | H21: 2 | I21: 0.2
H22: 3
A24: III.3 - APLICACIONES CLIENTE ADICIONALES
A26: APLICACIONES CLIENTE ADICIONALES | B26: INCLUIDO
B27: SI | C27: NO
A28: HiSense VIDAA OS
A29: Amazon Fire TV
A30: AppleTV
A33: III.4 - REDUCCCIÓN DE PLAZOS DE IMPLANTACIÓN
A35: REDUCCIÓN DE PLAZOS DE IMPLANTACIÓN | B35: SEMANAS DE REDUCCIÓN MÁXIMAS | C35: SEMANAS DE REDUCCIÓN OFERTADAS | H35: 0
A36: FASE 2 | B36: 4 | C36: 0 | H36: 1
A37: FASE 3 | B37: 4 | C37: 0 | H37: 2
A38: TOTAL | B38: =SUM(B36:B37) -> 8 | C38: =SUM(C36:C37) -> 0 | H38: 3
H39: 4
